BEGIN:VCALENDAR
VERSION:2.0
PRODID:-//wp-events-plugin.com//7.2.3.1//EN
TZID:Europe/Berlin
X-WR-TIMEZONE:Europe/Berlin
BEGIN:VEVENT
UID:340@havelberg-heimatverein.de
DTSTART;TZID=Europe/Berlin:20250504T103000
DTEND;TZID=Europe/Berlin:20250504T180000
DTSTAMP:20250331T114103Z
URL:https://www.havelberg-heimatverein.de/events/20-elberadeltag-einfach-d
 ufte-stadt-arneburg/
SUMMARY:20. Elberadeltag - einfach dufte Stadt Arneburg
DESCRIPTION:Erleben Sie den 20. Elberadeltag in voller Fahrt!\nWir laden Si
 e herzlich ein\, an einer unserer sechs geführten Sternradtouren* teilzun
 ehmen. Die Touren starten von verschiedenen Orten und bieten unterschiedli
 che Streckenlängen. Genießen Sie die frische Luft\, die malerische Lands
 chaft und die Gemeinschaft mit anderen Radfahrern.\nEin Tag voller unverge
 sslicher Momente erwartet Sie!\nDetaillierte Informationen erhalten Sie un
 ter:\n\nStrecke und Startpunkt für Havelberg (43 km)\n10:30 Uhr\, Haus de
 r Flüsse\n11:00 Uhr\, Sandau\, Rastplatz Elbdeich\, Knotenpunkt 8\n\nAnsp
 rechpartner für Havelberg\nTouristinformation\nFrau Olga Sedova\, Tel.: 0
 39387/79091\, E-Mail: Olga.Sedova@havelberg.de\nWeitere Informationen und 
 das Anmeldeformular finden Sie auf der Internetseite der Hansestadt Havelb
 erg. [wp-svg-icons icon="folder-open" wrap="i"]\n\nÜberregional finden Si
 e Informationen zum Elberadeltages am 4. und 10. Mai 2025 auf der Homepage
  des Elberadweges. [wp-svg-icons icon="folder-open" wrap="i"]
CATEGORIES:Veranstaltung
END:VEVENT
BEGIN:VTIMEZONE
TZID:Europe/Berlin
X-LIC-LOCATION:Europe/Berlin
BEGIN:DAYLIGHT
DTSTART:20250330T030000
TZOFFSETFROM:+0100
TZOFFSETTO:+0200
TZNAME:CEST
END:DAYLIGHT
END:VTIMEZONE
END:VCALENDAR