BEGIN:VCALENDAR
VERSION:2.0
PRODID:-//wp-events-plugin.com//7.2.3.1//EN
TZID:Europe/Berlin
X-WR-TIMEZONE:Europe/Berlin
BEGIN:VEVENT
UID:338@havelberg-heimatverein.de
DTSTART;TZID=Europe/Berlin:20250403T143000
DTEND;TZID=Europe/Berlin:20250403T163000
DTSTAMP:20250329T171252Z
URL:https://www.havelberg-heimatverein.de/events/__trashed-2/
SUMMARY:Plattdeutscher Nachmittag
DESCRIPTION:In Gabis Schenke in Legde (Prignitz) findet am Donnerstag\, dem
  03. April 2025 um 14:30 Uhr der nächste Plattdeutscher Nachmittag statt.
  Bei Kaffee und Kuchen werden Geschichten auf Plattdeutsch erzählt. Herzl
 ich willkommen sind Interessierte an der plattdeutschen Sprache.\n\nSeit g
 eraumer Zeit nehmen bereits Mitglieder aus der ehemaligen Pattdeutschen-Gr
 uppe des Havelberger Heimatverein regelmäßig an der Veranstaltung teil.
LOCATION:Gabis Schenke\, Dorfstraße 22\, Legde\, Brandenburg\, 19336\, Pri
 gnitz\, Deutschland
X-APPLE-STRUCTURED-LOCATION;VALUE=URI;X-ADDRESS=Dorfstraße 22\, Legde\, Br
 andenburg\, 19336\, Prignitz\, Deutschland;X-APPLE-RADIUS=100;X-TITLE=Gabi
 s Schenke:geo:0,0
END:VEVENT
BEGIN:VTIMEZONE
TZID:Europe/Berlin
X-LIC-LOCATION:Europe/Berlin
BEGIN:DAYLIGHT
DTSTART:20250330T030000
TZOFFSETFROM:+0100
TZOFFSETTO:+0200
TZNAME:CEST
END:DAYLIGHT
END:VTIMEZONE
END:VCALENDAR