BEGIN:VCALENDAR
VERSION:2.0
PRODID:-//wp-events-plugin.com//7.2.3.1//EN
TZID:Europe/Berlin
X-WR-TIMEZONE:Europe/Berlin
BEGIN:VEVENT
UID:322@havelberg-heimatverein.de
DTSTART;TZID=Europe/Berlin:20250607T140000
DTEND;TZID=Europe/Berlin:20250607T140000
DTSTAMP:20250102T115755Z
URL:https://www.havelberg-heimatverein.de/events/die-klosterdetektive-auf-
 der-suche-nach-dem-kirchenschatz/
SUMMARY:Die Klosterdetektive auf der Suche nach dem Kirchenschatz
DESCRIPTION:[caption id="attachment_7040" align="alignright" width="150"] B
 ild: Raphael W. auf Pixabay[/caption]\n\nWas genau ist eigentlich der Kirc
 henschatz? Wo ist er versteckt? Ist er verloren gegangen oder gar von fein
 dlichen Soldaten gestohlen worden? Die Klosterdetektive gehen auf die Such
 e nach einem Schatz\, der nicht nur aus Gold bestand...\n\nGeplant sind in
 sgesamt fünf Veranstaltungen der Klosterdetektive im Jahr 2025.\n\nAlle T
 ermine:\n- Die sprechenden Steine am 06. Januar 2025 | 14:00 Uhr\;\n- Auf 
 der Suche nach dem Kirchenschatz am 07. Juni 2025 | 14:00 Uhr\;\n- Die Kun
 st der Farben\, am 14. September 2025 | 14:00 Uhr\;\n- Die Totenschrift\, 
 23. November 2025 | 14:00 Uhr und\n- Die Legende von Nikolaus\, 06. Dezemb
 er 2025 | 14:00 Uhr.\n\nHinweise: Dauer ca. 2 Std. / begrenzte Teilnehmerz
 ahl\n\nEintrittspreise\nEintritt: 8\,00 € inkl. Material\nVeranstaltungs
 link [wp-svg-icons icon="globe" wrap="i"]\n\nQuelle: Internetseite der Kul
 turstiftung Sachsen-Anhalt / Kloster Jerichow
CATEGORIES:Veranstaltung
LOCATION:Kloster Jerichow - Kulturstiftung Sachsen-Anhalt\, Am Kloster 1\, 
 Jerichow\, Sachsen-Anhalt\, 39319\, Jerichower Land\, Deutschland
X-APPLE-STRUCTURED-LOCATION;VALUE=URI;X-ADDRESS=Am Kloster 1\, Jerichow\, S
 achsen-Anhalt\, 39319\, Jerichower Land\, Deutschland;X-APPLE-RADIUS=100;X
 -TITLE=Kloster Jerichow - Kulturstiftung Sachsen-Anhalt:geo:0,0
END:VEVENT
BEGIN:VTIMEZONE
TZID:Europe/Berlin
X-LIC-LOCATION:Europe/Berlin
BEGIN:DAYLIGHT
DTSTART:20250330T030000
TZOFFSETFROM:+0100
TZOFFSETTO:+0200
TZNAME:CEST
END:DAYLIGHT
END:VTIMEZONE
END:VCALENDAR