BEGIN:VCALENDAR
VERSION:2.0
PRODID:-//wp-events-plugin.com//7.2.3.1//EN
TZID:Europe/Berlin
X-WR-TIMEZONE:Europe/Berlin
BEGIN:VEVENT
UID:323@havelberg-heimatverein.de
DTSTART;TZID=Europe/Berlin:20250914T140000
DTEND;TZID=Europe/Berlin:20250914T140000
DTSTAMP:20250102T115821Z
URL:https://www.havelberg-heimatverein.de/events/die-klosterdetektive-und-
 die-kunst-der-farben/
SUMMARY:Die Klosterdetektive und die Kunst der Farben
DESCRIPTION:[caption id="attachment_7040" align="alignright" width="150"] B
 ild: Raphael W. auf Pixabay[/caption]\n\nIn der Kirche und der Klausur ver
 stecken sich alte Malereien mit geheimen Botschaften. Die Klosterdetektive
  erforschen die Bedeutung der Motive und stellen im Labor selbst Farben he
 r\, um eigene Kunstwerke zu erschaffen.\n\nGeplant sind insgesamt fünf Ve
 ranstaltungen der Klosterdetektive im Jahr 2025.\n\nAlle Termine:\n- Die s
 prechenden Steine am 06. Januar 2025 | 14:00 Uhr\;\n- Auf der Suche nach d
 em Kirchenschatz am 07. Juni 2025 | 14:00 Uhr\;\n- Die Kunst der Farben\, 
 am 14. September 2025 | 14:00 Uhr\;\n- Die Totenschrift\, 23. November 202
 5 | 14:00 Uhr und\n- Die Legende von Nikolaus\, 06. Dezember 2025 | 14:00 
 Uhr.\n\nHinweise: Dauer ca. 2 Std. / begrenzte Teilnehmerzahl\n\nEintritts
 preise\nEintritt: 8\,00 € inkl. Material\nVeranstaltungslink [wp-svg-ico
 ns icon="globe" wrap="i"]\n\nQuelle: Internetseite der Kulturstiftung Sach
 sen-Anhalt / Kloster Jerichow
CATEGORIES:Veranstaltung
LOCATION:Kloster Jerichow - Kulturstiftung Sachsen-Anhalt\, Am Kloster 1\, 
 Jerichow\, Sachsen-Anhalt\, 39319\, Jerichower Land\, Deutschland
X-APPLE-STRUCTURED-LOCATION;VALUE=URI;X-ADDRESS=Am Kloster 1\, Jerichow\, S
 achsen-Anhalt\, 39319\, Jerichower Land\, Deutschland;X-APPLE-RADIUS=100;X
 -TITLE=Kloster Jerichow - Kulturstiftung Sachsen-Anhalt:geo:0,0
END:VEVENT
BEGIN:VTIMEZONE
TZID:Europe/Berlin
X-LIC-LOCATION:Europe/Berlin
BEGIN:DAYLIGHT
DTSTART:20250330T030000
TZOFFSETFROM:+0100
TZOFFSETTO:+0200
TZNAME:CEST
END:DAYLIGHT
END:VTIMEZONE
END:VCALENDAR