BEGIN:VCALENDAR
VERSION:2.0
PRODID:-//wp-events-plugin.com//7.2.3.1//EN
TZID:Europe/Berlin
X-WR-TIMEZONE:Europe/Berlin
BEGIN:VEVENT
UID:325@havelberg-heimatverein.de
DTSTART;TZID=Europe/Berlin:20251206T140000
DTEND;TZID=Europe/Berlin:20251206T160000
DTSTAMP:20250102T120211Z
URL:https://www.havelberg-heimatverein.de/events/die-klosterdetektive-und-
 die-legende-des-nikolaus/
SUMMARY:Die Klosterdetektive und die Legende des Nikolaus
DESCRIPTION:[caption id="attachment_7040" align="alignright" width="150"] B
 ild: Raphael W. auf Pixabay[/caption]\n\nWas hat es mit dem heiligen Nikol
 aus und seiner Legende auf sich? Die Klosterdetektive gehen der Geschichte
  des Bischofs nach\, der den Kindern Geschenke bringt\, und entdecken die 
 Verbindungen zu modernen Bräuchen wie dem Weihnachtsbaum. Im Workshop ges
 talten sie ihre eigene Christbaumkugel und ein Nikolausschiffchen.\n\nGepl
 ant sind insgesamt fünf Veranstaltungen der Klosterdetektive im Jahr 2025
 .\n\nAlle Termine:\n- Die sprechenden Steine am 06. Januar 2025 | 14:00 Uh
 r\;\n- Auf der Suche nach dem Kirchenschatz am 07. Juni 2025 | 14:00 Uhr\;
 \n- Die Kunst der Farben\, am 14. September 2025 | 14:00 Uhr\;\n- Die Tote
 nschrift\, 23. November 2025 | 14:00 Uhr und\n- Die Legende von Nikolaus\,
  06. Dezember 2025 | 14:00 Uhr.\n\nHinweise: Dauer ca. 2 Std. / begrenzte 
 Teilnehmerzahl\n\nEintrittspreise\nEintritt: 8\,00 € inkl. Material\nVer
 anstaltungslink [wp-svg-icons icon="globe" wrap="i"]\n\nQuelle: Internetse
 ite der Kulturstiftung Sachsen-Anhalt / Kloster Jerichow
CATEGORIES:Veranstaltung
LOCATION:Kloster Jerichow - Kulturstiftung Sachsen-Anhalt\, Am Kloster 1\, 
 Jerichow\, Sachsen-Anhalt\, 39319\, Jerichower Land\, Deutschland
X-APPLE-STRUCTURED-LOCATION;VALUE=URI;X-ADDRESS=Am Kloster 1\, Jerichow\, S
 achsen-Anhalt\, 39319\, Jerichower Land\, Deutschland;X-APPLE-RADIUS=100;X
 -TITLE=Kloster Jerichow - Kulturstiftung Sachsen-Anhalt:geo:0,0
END:VEVENT
BEGIN:VTIMEZONE
TZID:Europe/Berlin
X-LIC-LOCATION:Europe/Berlin
BEGIN:STANDARD
DTSTART:20251026T020000
TZOFFSETFROM:+0200
TZOFFSETTO:+0100
TZNAME:CET
END:STANDARD
END:VTIMEZONE
END:VCALENDAR