BEGIN:VCALENDAR
VERSION:2.0
PRODID:-//wp-events-plugin.com//7.2.3.1//EN
TZID:Europe/Berlin
X-WR-TIMEZONE:Europe/Berlin
BEGIN:VEVENT
UID:324@havelberg-heimatverein.de
DTSTART;TZID=Europe/Berlin:20251123T140000
DTEND;TZID=Europe/Berlin:20251123T160000
DTSTAMP:20250102T115637Z
URL:https://www.havelberg-heimatverein.de/events/die-klosterdetektive-und-
 die-schrift-der-toten/
SUMMARY:Die Klosterdetektive und die Schrift der Toten
DESCRIPTION:[caption id="attachment_7040" align="alignright" width="150"] B
 ild: Raphael W. auf Pixabay[/caption]\n\nDer Totensonntag ist dem Gedächt
 nis an die Verstorbenen gewidmet. Wer schon einmal auf die Grabsteine gesc
 haut hat\, entdeckt einen Ritter in voller Rüstung oder einen Priester mi
 t einem Kelch. Ein anderer hält eine Rute in der Hand. Was mag das nur be
 deuten? Grabsteine lassen sich lesen – nicht nur die Inschriften\, sonde
 rn auch die Bilder. Die Klosterdetektive treten an\, diese Botschaften zu 
 entziffern.\n\nGeplant sind insgesamt fünf Veranstaltungen der Klosterdet
 ektive im Jahr 2025.\n\nAlle Termine:\n- Die sprechenden Steine am 06. Jan
 uar 2025 | 14:00 Uhr\;\n- Auf der Suche nach dem Kirchenschatz am 07. Juni
  2025 | 14:00 Uhr\;\n- Die Kunst der Farben\, am 14. September 2025 | 14:0
 0 Uhr\;\n- Die Totenschrift\, 23. November 2025 | 14:00 Uhr und\n- Die Leg
 ende von Nikolaus\, 06. Dezember 2025 | 14:00 Uhr.\n\nHinweise: Dauer ca. 
 2 Std. / begrenzte Teilnehmerzahl\n\nEintrittspreise\nEintritt: 8\,00 € 
 inkl. Material\nVeranstaltungslink [wp-svg-icons icon="globe" wrap="i"]\n\
 nQuelle: Internetseite der Kulturstiftung Sachsen-Anhalt / Kloster Jericho
 w
CATEGORIES:Veranstaltung
LOCATION:Kloster Jerichow - Kulturstiftung Sachsen-Anhalt\, Am Kloster 1\, 
 Jerichow\, Sachsen-Anhalt\, 39319\, Jerichower Land\, Deutschland
X-APPLE-STRUCTURED-LOCATION;VALUE=URI;X-ADDRESS=Am Kloster 1\, Jerichow\, S
 achsen-Anhalt\, 39319\, Jerichower Land\, Deutschland;X-APPLE-RADIUS=100;X
 -TITLE=Kloster Jerichow - Kulturstiftung Sachsen-Anhalt:geo:0,0
END:VEVENT
BEGIN:VTIMEZONE
TZID:Europe/Berlin
X-LIC-LOCATION:Europe/Berlin
BEGIN:STANDARD
DTSTART:20251026T020000
TZOFFSETFROM:+0200
TZOFFSETTO:+0100
TZNAME:CET
END:STANDARD
END:VTIMEZONE
END:VCALENDAR