BEGIN:VCALENDAR
VERSION:2.0
PRODID:-//wp-events-plugin.com//7.2.3.1//EN
TZID:Europe/Berlin
X-WR-TIMEZONE:Europe/Berlin
BEGIN:VEVENT
UID:335@havelberg-heimatverein.de
DTSTART;TZID=Europe/Berlin:20250329T150000
DTEND;TZID=Europe/Berlin:20250329T163000
DTSTAMP:20250304T185555Z
URL:https://www.havelberg-heimatverein.de/events/lutz-partenheimer-krieg-i
 m-mittelalter-und-das-aufkommen-der-ersten-geschuetze/
SUMMARY:Dr. Lutz Partenheimer - "Krieg im Mittelalter und das Aufkommen der
  ersten Geschütze"
DESCRIPTION:[caption id="attachment_7140" align="alignleft" width="209"] "K
 rieg im Mittelalter und das Aufkommen der ersten Geschütze"\, Quelle: © 
 Dr. Lutz Partenheimer[/caption]\n\nDer Vortrag von Dr. Lutz Partenheimer b
 eschäftigt sich mit der Kriegführung im Mittelalter (ca. 500 - 1500).\nF
 ragen werden gestellt:\n- warum führte man Krieg?\n- auf welcher Weise f
 ührte man diesen?\n- wer und wie wurden Heere aufgestellt?\n- wer war ver
 pflichtet bzw. berechtigt zur Teilnahme?\n- welche Waffen und Rüstungen k
 amen zum Einsatz?\n- welche Rolle spielte eine mittelalterliche Burganlage
 ?\n- welche neuartigen Waffen kamen zu Einsatz und wie war ihre Wirkung?\n
 \nAuf all diese Fragen wird es in dem Vortrag von Dr. Lutz Partenheimer ei
 ne Antwort geben.\n\nOrt: Salzkirche Tangermünde\, 39590 Tangermünde\nP
 reis: ab 3\,00 €
CATEGORIES:Vorträge
LOCATION:Salzkirche Tangermünde\, Zollensteig 20\, Tangermünde\, Sachsen-
 Anhalt\, 39590\, Altmark\, Deutschland
X-APPLE-STRUCTURED-LOCATION;VALUE=URI;X-ADDRESS=Zollensteig 20\, Tangermün
 de\, Sachsen-Anhalt\, 39590\, Altmark\, Deutschland;X-APPLE-RADIUS=100;X-T
 ITLE=Salzkirche Tangermünde:geo:0,0
END:VEVENT
BEGIN:VTIMEZONE
TZID:Europe/Berlin
X-LIC-LOCATION:Europe/Berlin
BEGIN:STANDARD
DTSTART:20241027T020000
TZOFFSETFROM:+0200
TZOFFSETTO:+0100
TZNAME:CET
END:STANDARD
END:VTIMEZONE
END:VCALENDAR