BEGIN:VCALENDAR
VERSION:2.0
PRODID:-//wp-events-plugin.com//7.2.3.1//EN
TZID:Europe/Berlin
X-WR-TIMEZONE:Europe/Berlin
BEGIN:VEVENT
UID:336@havelberg-heimatverein.de
DTSTART;TZID=Europe/Berlin:20250410T143000
DTEND;TZID=Europe/Berlin:20250412T130000
DTSTAMP:20250304T191441Z
URL:https://www.havelberg-heimatverein.de/events/tagung-gewalt-im-bauernkr
 ieg/
SUMMARY:Tagung - Gewalt im Bauernkrieg
DESCRIPTION:[caption id="attachment_7143" align="alignleft" width="100"] Fl
 yer Bauernkrieg - Gewalt\, Quelle: © Historische Kommission für Sachsen-
 Anhalt[/caption]\n\nAls 1525 „die rohe Stimme des Aufruhrs über ganz De
 utschland erscholl und alle Bauern mit Sensen\, Mistgabeln\, Knotenprügel
 n und Feuerbränden bewaffnet den Herren in Schlössern und Klöstern Tod 
 und Verderben schwuren“\, so fabulierte 1810 Johann Friedrich Butenschö
 n\, rheinischer Schulinspektor in französischen Diensten\, habe sich „d
 eutsches Blut aus allen Bächen und Strömen“ in den Rhein ergossen. „
 Mönche wurden am Altar\, wo sie unter dem Läuten der Sturmglocke auf den
  Knien lagen\, von den rasenden Bauern erwürgt\, und es war noch ein bene
 idenswertes Glück\, wenn nichts als das dampfende Blut der Nonnen die Zel
 len dieser armen Mädchen befleckte.“ Butenschöns Horrorgemälde ist in
  seinen Ausschmückungen ein sicher extremes Beispiel\, aber es entspricht
  doch einem jahrhundertelang gepflegten Bild von den Gewalttaten der wilde
 n Bauernhorden\, das im Kern bereits auf die Chronistik des 16. Jahrhunder
 ts zurückgeht.\nQuelle: © Historische Kommission Sachsen-Anhalt\nLink zu
 r Veranstaltungsseite [wp-svg-icons icon="point-right" wrap="i"]\n\nAnmeld
 ungen per E-Mail bitte bis 31. März 2025 an kontakt@hiko-sachsen-anhalt.d
 e
CATEGORIES:Tagung
LOCATION:Historisches Rathaus Stolberg\, Markt 1\, Südharz OT Stadt Stolbe
 rg\, Sachsen-Anhalt\, 06536\, Südharz\, Deutschland
X-APPLE-STRUCTURED-LOCATION;VALUE=URI;X-ADDRESS=Markt 1\, Südharz OT Stadt
  Stolberg\, Sachsen-Anhalt\, 06536\, Südharz\, Deutschland;X-APPLE-RADIUS
 =100;X-TITLE=Historisches Rathaus Stolberg:geo:0,0
END:VEVENT
BEGIN:VTIMEZONE
TZID:Europe/Berlin
X-LIC-LOCATION:Europe/Berlin
BEGIN:DAYLIGHT
DTSTART:20250330T030000
TZOFFSETFROM:+0100
TZOFFSETTO:+0200
TZNAME:CEST
END:DAYLIGHT
END:VTIMEZONE
END:VCALENDAR