BEGIN:VCALENDAR
VERSION:2.0
PRODID:-//wp-events-plugin.com//7.2.3.1//EN
TZID:Europe/Berlin
X-WR-TIMEZONE:Europe/Berlin
BEGIN:VEVENT
UID:339@havelberg-heimatverein.de
DTSTART;TZID=Europe/Berlin:20250411T183000
DTEND;TZID=Europe/Berlin:20250411T203000
DTSTAMP:20250329T172850Z
URL:https://www.havelberg-heimatverein.de/events/vortrag-die-quitzows-auf-
 kletzke-prignitz-gordon-thalmann/
SUMMARY:Vortrag „Die Quitzows auf Kletzke/Prignitz - Gordon Thalmann
DESCRIPTION:Liebe Freunde des Stadt- und Regionalmuseums Perleberg\,\n\n\n[
 caption id="attachment_7159" align="alignleft" width="106"] Flyer - Vortra
 g "Die Quitzows auf Kletzke/Prignitz"\, Quelle: Stadt- und Regionalmuseum 
 Perleberg[/caption]\nauf einen ganz besonderen Vortragsabend in Kletzke a
 m 11. April 2025 möchten wir Sie heute aufmerksam machen. Der Leiter der
  Unteren Denkmalschutzbehörde Prignitz und Bauforscher Gordon Thalmann wi
 rd im Herrenhaus in Kletzke ab 18:30 Uhr seinen Vortrag „Die Quitzows au
 f Kletzke / Prignitz. Neue Forschungen über Belagerungen\, Burgen und ‚
 Raubritter‘“ halten. Vortragsort ist der Festsaal im Herrenhaus in 19
 339 Kletzke\, Dorfstraße 60 (schräg gegenüber der Dorfkirche). Anmeldu
 ngen werden erbeten unter der Tel.-Nr. 0173-7996066\, der Eintritt ist fre
 i.\nIn den vergangenen Jahren war Kletzke immer wieder Ziel für bauhistor
 ische und archäologische Untersuchungen\, die von der Unteren Denkmalschu
 tzbehörde angeregt und von ihr begleitet wurden. Es gab zudem ein univers
 itäres Grabungsprojekt und verschiedene Feldbegehungen mit den ehrenamtli
 chen Bodendenkmalpflegern auf dem Schlachtfeld von 1390\, die allesamt wer
 tvolle Erkenntnisse zur mittelalterlichen Geschichte des einst bedeutenden
  Rittersitzes der Familie von Quitzow in Kletzke ergaben. Teilweise haben 
 Gordon Thalmann und Clemens Bergstedt diese jüngsten Untersuchungen im le
 tzten Jahrbuch für Brandenburgische Landesgeschichte (2024)  in einem se
 hr zu empfehlenden Aufsatz publiziert. 2024 wurde überdies die Ruine des 
 Renaissanceschlosses\, in dem sich noch das Feste Haus der Quitzows verbir
 gt\, im Rahmen des Sommerzeltlagers Junge Archäologen Prignitz – einem 
 Gemeinschaftsprojekt von Kreis- und Rolandstadt Perleberg und Landkreis Pr
 ignitz – und mit Unterstützung des heutigen Eigentümers Lutz Lange aus
 giebig untersucht (vgl. Abb.)\, wobei viele interessante Funde gemacht wur
 den\, die wertvolle neue Details zur Baugeschichte dieser sehr großen Sch
 loßanlage offenbarten. Auf all diese archäologischen Befunde im Kontext 
 zur bisher tradierten Bau-\, Dorf- und Familiengeschichte geht Gordon Thal
 mann in dem spannenden Vortrag ein. Bitte melden Sie sich für eine besser
 e Planung zu dieser Veranstaltung an.\nQuelle:  Stadt- und Regionalmuseum
  Perleberg
CATEGORIES:Vorträge
LOCATION:Festsaal im Herrenhaus Kletzke\,\, Dorfstraße 60\, Kletzke\, Bran
 denburg\, 19339\, Prignitz\, Deutschland
X-APPLE-STRUCTURED-LOCATION;VALUE=URI;X-ADDRESS=Dorfstraße 60\, Kletzke\, 
 Brandenburg\, 19339\, Prignitz\, Deutschland;X-APPLE-RADIUS=100;X-TITLE=Fe
 stsaal im Herrenhaus Kletzke\,:geo:0,0
END:VEVENT
BEGIN:VTIMEZONE
TZID:Europe/Berlin
X-LIC-LOCATION:Europe/Berlin
BEGIN:DAYLIGHT
DTSTART:20250330T030000
TZOFFSETFROM:+0100
TZOFFSETTO:+0200
TZNAME:CEST
END:DAYLIGHT
END:VTIMEZONE
END:VCALENDAR