BEGIN:VCALENDAR
VERSION:2.0
PRODID:-//wp-events-plugin.com//7.2.3.1//EN
TZID:Europe/Berlin
X-WR-TIMEZONE:Europe/Berlin
BEGIN:VEVENT
UID:333@havelberg-heimatverein.de
DTSTART;TZID=Europe/Berlin:20250225T180000
DTEND;TZID=Europe/Berlin:20250225T200000
DTSTAMP:20250205T203931Z
URL:https://www.havelberg-heimatverein.de/events/vortrag-von-boehne-aus-ge
 gen-die-schweden-in-rathenow/
SUMMARY:Vortrag - Von Böhne aus gegen die Schweden in Rathenow
DESCRIPTION:Die Freunde der „Böhner Geschichtswerkstatt“ und der Rathe
 nower Heimatbund e.V. laden Sie herzlich zu folgendem Vortrag ein:\n1675 e
 ntwickelte der Gutsheer auf Böhne\, Jacob von Briest\, gemeinsam mit dem 
 Rathenower Bürgermeister Bergmann und weiteren mutigen Männern einen ver
 wegenen Plan zur Befreiung der Stadt vom Schwedenjoch. Von Briest führte 
 dazu das kurfürstliche Heer unbemerkt von den Schweden in die Wälder zwi
 schen Böhne und Vieritz.\nIm Böhner Schwedenhaus soll der Legende nach d
 er Große Kurfürst gemeinsam mit Herrn von Briest und deren Vertrauten am
  Vorabend der Schlacht den Angriffsplan zur Befreiung Rathenows beraten ha
 ben.\nEin Plan\, der am nächsten Tag zur Niederringung der schwedischen B
 esatzung und anschließenden Aufstieg Brandenburgs zur europäischen Groß
 macht führte.\nOrtsvorsteher Christian Stachowiak hat zur Geschichte sein
 es Ortes und besonders zur Schwedenvertreibung bereits viel recherchiert. 
 Seine Ergebnisse präsentiert er heute in seinem Vortrag.\n\nReferent: Ort
 svorsteher Christian Stachowiak\nPreis: Eintritt frei\nFlyer zum download
   
CATEGORIES:Vorträge
LOCATION:Böhner Gemeindezentrum\, Hinter den Höfen 4\, Rathenow/ OT Böhn
 e\, Brandenburg\, 14712\, Deutschland
X-APPLE-STRUCTURED-LOCATION;VALUE=URI;X-ADDRESS=Hinter den Höfen 4\, Rathe
 now/ OT Böhne\, Brandenburg\, 14712\, Deutschland;X-APPLE-RADIUS=100;X-TI
 TLE=Böhner Gemeindezentrum:geo:0,0
END:VEVENT
BEGIN:VTIMEZONE
TZID:Europe/Berlin
X-LIC-LOCATION:Europe/Berlin
BEGIN:STANDARD
DTSTART:20241027T020000
TZOFFSETFROM:+0200
TZOFFSETTO:+0100
TZNAME:CET
END:STANDARD
END:VTIMEZONE
END:VCALENDAR