BEGIN:VCALENDAR
VERSION:2.0
PRODID:-//wp-events-plugin.com//7.2.3.1//EN
TZID:Europe/Berlin
X-WR-TIMEZONE:Europe/Berlin
BEGIN:VEVENT
UID:320@havelberg-heimatverein.de
DTSTART;TZID=Europe/Berlin:20250424T180000
DTEND;TZID=Europe/Berlin:20250424T193000
DTSTAMP:20241226T223119Z
URL:https://www.havelberg-heimatverein.de/events/wintervortragsreihe-2025-
 antje-reichel-die-120-jaehrige-geschichte-des-prignitz-museums/
SUMMARY:Wintervortragsreihe 2025 - Antje Reichel - "Die 120-jährige Geschi
 chte des Prignitz-Museums"
DESCRIPTION:Antje Reiche berichtet über die 120-jährige Geschichte des Pr
 ignitz-Museums.\n\nDie Veranstaltungsreihe findet im Prignitz-Museum am Do
 m\, Domplatz 3\, 39539 Hansestadt Havelberg jeweils um 18:00 Uhr statt.\n\
 nDie Eintrittskarten zum Preis von 5\,00 € können am Eingang käuflich 
 erworben werden. Gerne nehmen wir auch Reservierungen unter Mobil: +49 160
  3575895 oder E-Mail: info@havelberg-heimatverein.de entgegen.
CATEGORIES:Vorträge
LOCATION:Prignitz-Museum am Dom Havelberg\, Museum des Landkreises Stendal\
 , Domplatz 3\, Hansestadt Havelberg\, Sachsen-Anhalt\, 39539\, Prignitz\, 
 Deutschland
X-APPLE-STRUCTURED-LOCATION;VALUE=URI;X-ADDRESS=Domplatz 3\, Hansestadt Hav
 elberg\, Sachsen-Anhalt\, 39539\, Prignitz\, Deutschland;X-APPLE-RADIUS=10
 0;X-TITLE=Prignitz-Museum am Dom Havelberg\, Museum des Landkreises Stenda
 l:geo:0,0
END:VEVENT
BEGIN:VTIMEZONE
TZID:Europe/Berlin
X-LIC-LOCATION:Europe/Berlin
BEGIN:DAYLIGHT
DTSTART:20250330T030000
TZOFFSETFROM:+0100
TZOFFSETTO:+0200
TZNAME:CEST
END:DAYLIGHT
END:VTIMEZONE
END:VCALENDAR