BEGIN:VCALENDAR
VERSION:2.0
PRODID:-//wp-events-plugin.com//7.2.3.1//EN
TZID:Europe/Berlin
X-WR-TIMEZONE:Europe/Berlin
BEGIN:VEVENT
UID:318@havelberg-heimatverein.de
DTSTART;TZID=Europe/Berlin:20250220T180000
DTEND;TZID=Europe/Berlin:20250220T190000
DTSTAMP:20241226T175913Z
URL:https://www.havelberg-heimatverein.de/events/wintervortragsreihe-2025-
 frank-ermer-die-kriegs-und-internierungslager-von-1914-bis-1921-im-heutige
 n-sachsen-anhalt/
SUMMARY:Wintervortragsreihe 2025 - Frank Ermer - „Die Kriegs- und Interni
 erungslager von 1914 bis 1921 im heutigen Sachsen-Anhalt“
DESCRIPTION:Der Geschichte der Kriegs- und Internierungslager von 1914 bis
  1921 im heutigen Sachsen-Anhalt ist eine sehr langwierige\, wie in ganz E
 uropa. Die historischen Ursachen liegen viel weiter zurück und sind sehr 
 vielschichtig.\n\nWill man den I. Weltkrieg verstehen und die daraus resul
 tierende Geschichte mit ihrem unendlichen Leid\, so muss man sich mit der 
 damaligen politischen Situation und den sich daraus ergebenen Ränkespiele
 n in Europa beschäftigen. Wer mit wem und alle gegen einander.\n\nDer Vor
 trag gliedert sich aus diesem Grund auch in 3 Hauptthemen:\n\n1. Das Atten
 tat von Sarajevo\, Vorgeschichte und seine schwerwiegenden Folgen\;\n2. Di
 e Kriegs- und Interniertenlager von 1914 bis 1921 im heutigen Sachsen-Anha
 lt\;\n3. Die Entwicklung der Kriegsgräberfürsorge und welche Rolle spiel
 te das Rote Kreuz im I. Weltkrieg.\n\nDie Veranstaltungsreihe findet im Pr
 ignitz-Museum am Dom\, Domplatz 3\, 39539 Hansestadt Havelberg jeweils um 
 18:00 Uhr statt.\n\nEintrittskarten zum Preis von 5\,00 € können am Ein
 gang käuflich erworben werden. Gerne nehmen wir auch Reservierungen unter
  Mobil: +49 160 3575895 oder E-Mail: info@havelberg-heimatverein.de entgeg
 en.
CATEGORIES:Vorträge
LOCATION:Prignitz-Museum am Dom Havelberg\, Museum des Landkreises Stendal\
 , Domplatz 3\, Hansestadt Havelberg\, Sachsen-Anhalt\, 39539\, Prignitz\, 
 Deutschland
X-APPLE-STRUCTURED-LOCATION;VALUE=URI;X-ADDRESS=Domplatz 3\, Hansestadt Hav
 elberg\, Sachsen-Anhalt\, 39539\, Prignitz\, Deutschland;X-APPLE-RADIUS=10
 0;X-TITLE=Prignitz-Museum am Dom Havelberg\, Museum des Landkreises Stenda
 l:geo:0,0
END:VEVENT
BEGIN:VTIMEZONE
TZID:Europe/Berlin
X-LIC-LOCATION:Europe/Berlin
BEGIN:STANDARD
DTSTART:20241027T020000
TZOFFSETFROM:+0200
TZOFFSETTO:+0100
TZNAME:CET
END:STANDARD
END:VTIMEZONE
END:VCALENDAR