BEGIN:VCALENDAR
VERSION:2.0
PRODID:-//wp-events-plugin.com//7.2.3.1//EN
TZID:Europe/Berlin
X-WR-TIMEZONE:Europe/Berlin
BEGIN:VEVENT
UID:321@havelberg-heimatverein.de
DTSTART;TZID=Europe/Berlin:20250522T140000
DTEND;TZID=Europe/Berlin:20250522T163000
DTSTAMP:20241226T224359Z
URL:https://www.havelberg-heimatverein.de/events/wintervortragsreihe-2025-
 kurzexkursion-zur-plattenburg/
SUMMARY:Wintervortragsreihe 2025 - Kurzexkursion zur Plattenburg
DESCRIPTION:Kurzexkursion zur Plattenburg mit Besichtigung und gemeinsames 
 Kaffeetrinken im Burgcafé.\nDie Adelslandschaft der Prignitz ist so alt\,
  wie die Städte und Dörfer unserer Heimat. Es waren zunächst Angehörig
 er alter Adelsgeschlechter\, die mit dem Wendenkreuzzug Markgraf Albrechts
  des Bären als Lehnsträger und Ritter in die Prignitz kamen und hier als
  militärische Vorposten das ostelbische Besiedlungswerk des 12. und 13. J
 ahrhunderts im Auftrage der Markgrafen von Brandenburg und der Havelberger
  Bischöfe in Gang setzten oder sogar selbst als Gründer und Stifter in E
 rscheinung traten.\nEinige dieser altadligen Geschlechter blieben jahrhund
 ertelang in der Prignitz sesshaft (u. a. die Gans Edlen Herren zu Putlitz\
 , v. Moellendorff\, v. Platen\, v. Graevenitz\, v. Winterfeld\, v. Rohr). 
 Erst durch die Machenschaften der sozialistischen Diktatur\, die nach dem 
 Kriegsende 1945 in der damals sowjetisch besetzten Zone Deutschlands began
 nen\, verschwand hier die einst so prägend für das Land und die Gesellsc
 haft gewesene Adelslandschaft für lange Zeit.\nQuelle: https://www.stadt-
 perleberg.de vom 27. Juni 2022\n\nTreffpunkt: Burgstraße (Parkplatz)\, 19
 339 Plattenburg\, 14:00 Uhr.\nNebenkosten: Für Nichtmitglieder entstehen
  Nebenkosten in Höhe von 20\,00 € (Kaffeetrinken &amp\; Eintritt).\n\nE
 intrittskarten zum Preis von 5\,00 € können am Eingang käuflich erworb
 en werden. Gerne nehmen wir auch Reservierungen unter Mobil: +49 160 35758
 95 oder E-Mail: info@havelberg-heimatverein.de entgegen.
CATEGORIES:Vorträge
LOCATION:Plattenburg\, Auf der Burg 1\, Plattenburg\, Brandenburg\, 19339\,
  Prignitz\, Deutschland
X-APPLE-STRUCTURED-LOCATION;VALUE=URI;X-ADDRESS=Auf der Burg 1\, Plattenbur
 g\, Brandenburg\, 19339\, Prignitz\, Deutschland;X-APPLE-RADIUS=100;X-TITL
 E=Plattenburg:geo:0,0
END:VEVENT
BEGIN:VTIMEZONE
TZID:Europe/Berlin
X-LIC-LOCATION:Europe/Berlin
BEGIN:DAYLIGHT
DTSTART:20250330T030000
TZOFFSETFROM:+0100
TZOFFSETTO:+0200
TZNAME:CEST
END:DAYLIGHT
END:VTIMEZONE
END:VCALENDAR