BEGIN:VCALENDAR
VERSION:2.0
PRODID:-//wp-events-plugin.com//7.2.3.1//EN
TZID:Europe/Berlin
X-WR-TIMEZONE:Europe/Berlin
BEGIN:VEVENT
UID:319@havelberg-heimatverein.de
DTSTART;TZID=Europe/Berlin:20250320T180000
DTEND;TZID=Europe/Berlin:20250320T193000
DTSTAMP:20241226T190137Z
URL:https://www.havelberg-heimatverein.de/events/wintervortragsreihe-2025-
 torsten-foelsch-die-adligen-und-deren-wohnsitze-in-der-prignitz/
SUMMARY:Wintervortragsreihe 2025 - Torsten Foelsch - "Die Adligen und deren
  Wohnsitze in der Prignitz"
DESCRIPTION:Die Adelslandschaft der Prignitz ist so alt\, wie die Städte u
 nd Dörfer unserer Heimat. Es waren zunächst Angehöriger alter Adelsgesc
 hlechter\, die mit dem Wendenkreuzzug Markgraf Albrechts des Bären als Le
 hnsträger und Ritter in die Prignitz kamen und hier als militärische Vor
 posten das ostelbische Besiedlungswerk des 12. und 13. Jahrhunderts im Auf
 trage der Markgrafen von Brandenburg und der Havelberger Bischöfe in Gang
  setzten oder sogar selbst als Gründer und Stifter in Erscheinung traten.
 \nEinige dieser altadeligen Geschlechter blieben jahrhundertelang in der P
 rignitz sesshaft (u. a. die Gans Edlen Herren zu Putlitz\, v. Moellendorff
 \, v. Platen\, v. Graevenitz\, v. Winterfeld\, v. Rohr). Erst durch die Ma
 chenschaften der sozialistischen Diktatur\, die nach dem Kriegsende 1945 i
 n der damals sowjetisch besetzten Zone Deutschlands begannen\, verschwand 
 hier die einst so prägend für das Land und die Gesellschaft gewesene Ade
 lslandschaft für lange Zeit.\nQuelle: www.stadt-perleberg.de vom 27. Febr
 uar 2022\nDie Veranstaltungsreihe findet im Prignitz-Museum am Dom\, Dompl
 atz 3\, 39539 Hansestadt Havelberg jeweils um 18:00 Uhr statt.\n\nDie Eint
 rittskarten zum Preis von 5\,00 € können am Eingang käuflich erworben 
 werden. Gerne nehmen wir auch Reservierungen unter Mobil: +49 160 3575895 
 oder E-Mail: info@havelberg-heimatverein.de entgegen.
CATEGORIES:Vorträge
LOCATION:Prignitz-Museum am Dom Havelberg\, Museum des Landkreises Stendal\
 , Domplatz 3\, Hansestadt Havelberg\, Sachsen-Anhalt\, 39539\, Prignitz\, 
 Deutschland
X-APPLE-STRUCTURED-LOCATION;VALUE=URI;X-ADDRESS=Domplatz 3\, Hansestadt Hav
 elberg\, Sachsen-Anhalt\, 39539\, Prignitz\, Deutschland;X-APPLE-RADIUS=10
 0;X-TITLE=Prignitz-Museum am Dom Havelberg\, Museum des Landkreises Stenda
 l:geo:0,0
END:VEVENT
BEGIN:VTIMEZONE
TZID:Europe/Berlin
X-LIC-LOCATION:Europe/Berlin
BEGIN:STANDARD
DTSTART:20241027T020000
TZOFFSETFROM:+0200
TZOFFSETTO:+0100
TZNAME:CET
END:STANDARD
END:VTIMEZONE
END:VCALENDAR